BEGIN:VCALENDAR
VERSION:2.0
PRODID:icalendar-ruby
CALSCALE:GREGORIAN
METHOD:PUBLISH
BEGIN:VEVENT
DTSTAMP:20260421T184345Z
UID:50-374649@umciola.org
DTSTART:20260921T214500Z
DTEND:20260921T224500Z
CLASS:PUBLIC
CREATED:20260421T123919
DESCRIPTION:Get your body moving this spring at Boot Camp!
LAST-MODIFIED:20260421T123919
LOCATION:318 W Jackson Iola Ks 66749
SUMMARY:Boot Camp
URL;VALUE=URI:https://www.umciola.org/events/boot-camp--50/2026-09-21
END:VEVENT
END:VCALENDAR
