BEGIN:VCALENDAR
VERSION:2.0
PRODID:icalendar-ruby
CALSCALE:GREGORIAN
METHOD:PUBLISH
BEGIN:VEVENT
DTSTAMP:20260422T000414Z
UID:50-375605@umciola.org
DTSTART:20261019T214500Z
DTEND:20261019T224500Z
CLASS:PUBLIC
CREATED:20260421T175336
DESCRIPTION:Get your body moving this spring at Boot Camp!
LAST-MODIFIED:20260421T175336
LOCATION:318 W Jackson Iola Ks 66749
SUMMARY:Boot Camp
URL;VALUE=URI:https://www.umciola.org/events/boot-camp--50/2026-10-19
END:VEVENT
END:VCALENDAR
