BEGIN:VCALENDAR
VERSION:2.0
PRODID:icalendar-ruby
CALSCALE:GREGORIAN
METHOD:PUBLISH
BEGIN:VEVENT
DTSTAMP:20260422T024705Z
UID:50-376083@umciola.org
DTSTART:20261102T224500Z
DTEND:20261102T234500Z
CLASS:PUBLIC
CREATED:20260421T203203
DESCRIPTION:Get your body moving this spring at Boot Camp!
LAST-MODIFIED:20260421T203203
LOCATION:318 W Jackson Iola Ks 66749
SUMMARY:Boot Camp
URL;VALUE=URI:https://www.umciola.org/events/boot-camp--50/2026-11-02
END:VEVENT
END:VCALENDAR
