BEGIN:VCALENDAR
VERSION:2.0
PRODID:icalendar-ruby
CALSCALE:GREGORIAN
METHOD:PUBLISH
BEGIN:VEVENT
DTSTAMP:20260421T212644Z
UID:74-375162@umciola.org
DTSTART:20260505T233000Z
DTEND:20260506T000000Z
CLASS:PUBLIC
CREATED:20260421T151504
DESCRIPTION:A premier youth development program for boys aged 11–17\, foc
 using on character\, citizenship\, leadership\, and personal fitness throu
 gh outdoor adventure.
LAST-MODIFIED:20260421T151504
LOCATION:318 W Jackson Iola Ks 66749
SUMMARY:Boy Scouts
URL;VALUE=URI:https://www.umciola.org/events/boy-scouts--74/2026-05-05
ATTACH;FILENAME=Boy-Scout-Logo.png;FMTTYPE=image/png:https://dq5pwpg1q8ru0.
 cloudfront.net/2026/04/21/14/51/42/7d3d7c2b-b367-4f25-ae8f-aad8c9b6be12/Bo
 y-Scout-Logo.png
END:VEVENT
END:VCALENDAR
