BEGIN:VCALENDAR
VERSION:2.0
PRODID:icalendar-ruby
CALSCALE:GREGORIAN
METHOD:PUBLISH
BEGIN:VEVENT
DTSTAMP:20260424T115443Z
UID:68-315620@umciola.org
DTSTART:20260427T093000Z
DTEND:20260427T223000Z
CLASS:PUBLIC
CREATED:20260326T113643
DESCRIPTION:Monthly Commodities distribution will take place in the East Pa
 rking lot of the church beginning at 4:30 p.m.
LAST-MODIFIED:20260326T113643
LOCATION:301 E Madison\, Iola KS 66749
SUMMARY:Commodities Distribution
URL;VALUE=URI:https://www.umciola.org/events/commodities-distribution--68/2
 026-04-27
ATTACH;FILENAME=commodities.jpg;FMTTYPE=image/jpeg:https://dq5pwpg1q8ru0.cl
 oudfront.net/2026/03/26/16/36/42/2f4ceeb5-99aa-41f5-92d3-d7d057be5b21/comm
 odities.jpg
END:VEVENT
END:VCALENDAR
