BEGIN:VCALENDAR
VERSION:2.0
PRODID:icalendar-ruby
CALSCALE:GREGORIAN
METHOD:PUBLISH
BEGIN:VEVENT
DTSTAMP:20260424T115408Z
UID:72-315630@umciola.org
DTSTART:20260425T140000Z
DTEND:20260425T200000Z
CLASS:PUBLIC
CREATED:20260326T115359
DESCRIPTION:Conference Leadership invites you to a learning opportunity. He
 ar Keynote speakers and leadership encourage you concerning the small chur
 ch advantage. 
LAST-MODIFIED:20260326T115359
LOCATION:500 Leawood Drive Parsons KS 67357
SUMMARY:Small Church Advantage
URL;VALUE=URI:https://www.umciola.org/events/small-church-advantage/2026-04
 -25
ATTACH;FILENAME=Small-Church-Advantage-042526-1.pdf;FMTTYPE=application/pdf
 :https://dq5pwpg1q8ru0.cloudfront.net/2026/03/26/16/53/59/68d9cded-b0ec-45
 6c-a1bc-7394407218b2/Small-Church-Advantage-042526-1.pdf
END:VEVENT
END:VCALENDAR
